BEGIN:VCALENDAR
VERSION:2.0
PRODID:-//Alonette - ECPv6.15.20//NONSGML v1.0//EN
CALSCALE:GREGORIAN
METHOD:PUBLISH
X-WR-CALNAME:Alonette
X-ORIGINAL-URL:https://alonette.ee
X-WR-CALDESC:Events for Alonette
REFRESH-INTERVAL;VALUE=DURATION:PT1H
X-Robots-Tag:noindex
X-PUBLISHED-TTL:PT1H
BEGIN:VTIMEZONE
TZID:Europe/Tallinn
BEGIN:DAYLIGHT
TZOFFSETFROM:+0200
TZOFFSETTO:+0300
TZNAME:EEST
DTSTART:20240331T010000
END:DAYLIGHT
BEGIN:STANDARD
TZOFFSETFROM:+0300
TZOFFSETTO:+0200
TZNAME:EET
DTSTART:20241027T010000
END:STANDARD
BEGIN:DAYLIGHT
TZOFFSETFROM:+0200
TZOFFSETTO:+0300
TZNAME:EEST
DTSTART:20250330T010000
END:DAYLIGHT
BEGIN:STANDARD
TZOFFSETFROM:+0300
TZOFFSETTO:+0200
TZNAME:EET
DTSTART:20251026T010000
END:STANDARD
BEGIN:DAYLIGHT
TZOFFSETFROM:+0200
TZOFFSETTO:+0300
TZNAME:EEST
DTSTART:20260329T010000
END:DAYLIGHT
BEGIN:STANDARD
TZOFFSETFROM:+0300
TZOFFSETTO:+0200
TZNAME:EET
DTSTART:20261025T010000
END:STANDARD
END:VTIMEZONE
BEGIN:VEVENT
DTSTART;TZID=Europe/Tallinn:20250719T170000
DTEND;TZID=Europe/Tallinn:20250719T210000
DTSTAMP:20260425T121458
CREATED:20250502T114916Z
LAST-MODIFIED:20250502T114916Z
UID:196-1752944400-1752958800@alonette.ee
SUMMARY:TAFF:fest
DESCRIPTION:
URL:https://alonette.ee/concert/tafffest/
LOCATION:Haapsalu piiskopilinnus\, Haapsalu\, Estonia
END:VEVENT
BEGIN:VEVENT
DTSTART;TZID=Europe/Tallinn:20250711T150000
DTEND;TZID=Europe/Tallinn:20250711T230000
DTSTAMP:20260425T121458
CREATED:20250601T184837Z
LAST-MODIFIED:20250601T184837Z
UID:231-1752246000-1752274800@alonette.ee
SUMMARY:KIKUMU festival
DESCRIPTION:
URL:https://alonette.ee/concert/kikumu-festival/
LOCATION:Jäneda õppekeskus\, Lääne-Virumaa\, Estonia
END:VEVENT
BEGIN:VEVENT
DTSTART;TZID=Europe/Tallinn:20250604T190000
DTEND;TZID=Europe/Tallinn:20250604T220000
DTSTAMP:20260425T121458
CREATED:20250502T114724Z
LAST-MODIFIED:20250502T114724Z
UID:192-1749063600-1749074400@alonette.ee
SUMMARY:Alonette & Erki Pärnoja DUO
DESCRIPTION:
URL:https://alonette.ee/concert/alonette-erki-parnoja-duo/
LOCATION:Wambola Surf and Bar\, Tallinn\, Estonia
END:VEVENT
BEGIN:VEVENT
DTSTART;TZID=Europe/Tallinn:20250404T223000
DTEND;TZID=Europe/Tallinn:20250404T233000
DTSTAMP:20260425T121458
CREATED:20250502T113816Z
LAST-MODIFIED:20250502T113816Z
UID:181-1743805800-1743809400@alonette.ee
SUMMARY:Tallinn Music Week
DESCRIPTION:
URL:https://alonette.ee/concert/tallinn-music-week/
LOCATION:Fotografiska\, Tallinn
END:VEVENT
BEGIN:VEVENT
DTSTART;TZID=Europe/Tallinn:20250319T190000
DTEND;TZID=Europe/Tallinn:20250319T220000
DTSTAMP:20260425T121458
CREATED:20250502T114555Z
LAST-MODIFIED:20250502T114555Z
UID:189-1742410800-1742421600@alonette.ee
SUMMARY:"Compass" release concert
DESCRIPTION:
URL:https://alonette.ee/concert/compass-release-concert/
LOCATION:Uus Laine\, Tallinn\, Estonia
END:VEVENT
END:VCALENDAR